BEGIN:VCALENDAR
VERSION:2.0
PRODID:-//eventon.com NONSGML v1.0//EN
CALSCALE:GREGORIAN
METHOD:PUBLISH
BEGIN:VEVENT
UID:69e8bc074988e
DTSTAMP:20260422T121607Z
DTSTART:20260430T120000Z
DTEND:20260503T110000Z
LOCATION:Sampurna Am Tiergarten 1\,  65388 Schlangenbad
SUMMARY:Offenes Retreat Modul 1 - Präsenz & Feld - Spaceholding für Gruppen
DESCRIPTION:Retreat im Sampurna vom 30.4.-3.5.26\,  inklusive der Online-Kl
 asse am 23.4.26 Präsenz &amp; Feld &#8211; Spaceholding für Gruppen Diese
 s Retreat führt uns in das Seminarhaus Sampurna – ländlich ruhig am Ort
 srand nahe Wiesbaden gelegen und umgeben von Quellen\,  Wiesen und Wäldern
  des Taunus. In diesem inspirierenden Rahmen schaffen wir die Basis[..]\nht
 tps://sahejyog.com/events/offenes-retreat/
URL:https://sahejyog.com/events/offenes-retreat/
END:VEVENT
END:VCALENDAR