BEGIN:VCALENDAR
VERSION:2.0
PRODID:-//eventon.com NONSGML v1.0//EN
CALSCALE:GREGORIAN
METHOD:PUBLISH
BEGIN:VEVENT
UID:69e8bb44d41fa
DTSTAMP:20260422T121252Z
DTSTART:20260416T180000Z
DTEND:20260416T190000Z
LOCATION:
SUMMARY:Präsenz verkörpern - die Freiheit in dir und deinem Leben
DESCRIPTION:Du möchtest erleben\,  wie Containment\,  Traumasensibilität 
 und Spaceholding in der Praxis wirken? In unseren kostenfreien Online-Klass
 en geben wir dir einen direkten Einblick in zentrale Qualitäten unserer Au
 sbildung. Präsenz Verkörpern &#8211; die Freiheit in dir und deinem Leben
  mit Sven Butz In der wirklichen Akzeptanz des Moments und im entspannten R
 uhen[..]\nhttps://sahejyog.com/events/praesenz-verkoerpern/
URL:https://sahejyog.com/events/praesenz-verkoerpern/
END:VEVENT
END:VCALENDAR