BEGIN:VCALENDAR
VERSION:2.0
PRODID:-//eventon.com NONSGML v1.0//EN
CALSCALE:GREGORIAN
METHOD:PUBLISH
BEGIN:VEVENT
UID:69e8bbf6a1c12
DTSTAMP:20260422T121550Z
DTSTART:20260305T190000Z
DTEND:20260305T200000Z
LOCATION:
SUMMARY:Die subtile Arbeit mit Kriyas / Ein tieferes Verständnis von Kriya und Meditation
DESCRIPTION:Du möchtest erleben\,  wie Containment\,  Traumasensibilität 
 und Spaceholding in der Praxis wirken? In unseren kostenfreien Online-Klass
 en geben wir dir einen direkten Einblick in zentrale Qualitäten unserer Au
 sbildung. Die subtile Arbeit mit Kriyas Ein tieferes Verständnis von Kriya
  und Meditation mit Siri Gopal und Sven Butz Was macht die Wirkung einer[..
 ]\nhttps://sahejyog.com/events/die-subtile-arbeit-mit-kriyas/
URL:https://sahejyog.com/events/die-subtile-arbeit-mit-kriyas/
END:VEVENT
END:VCALENDAR