BEGIN:VCALENDAR
VERSION:2.0
PRODID:-//eventon.com NONSGML v1.0//EN
CALSCALE:GREGORIAN
METHOD:PUBLISH
BEGIN:VEVENT
UID:69e8bae0a46b9
DTSTAMP:20260422T121112Z
DTSTART:20260219T190000Z
DTEND:20260219T200000Z
LOCATION:
SUMMARY:Menschsein im neuen Zeitalter
DESCRIPTION:Du möchtest erleben\,  wie Containment\,  Traumasensibilität 
 und Spaceholding in der Praxis wirken? In unseren kostenfreien Online-Klass
 en geben wir dir einen direkten Einblick in zentrale Qualitäten unserer Au
 sbildung. Menschsein im neuen Zeitalter mit Siri Gopal und Sven Butz Die An
 forderungen\,  denen wir heute als Menschen gegenüberstehen\,  sind komple
 xer und nervlich belastender[..]\nhttps://sahejyog.com/events/neues-zeitalt
 er/
URL:https://sahejyog.com/events/neues-zeitalter/
END:VEVENT
END:VCALENDAR