BEGIN:VCALENDAR
VERSION:2.0
PRODID:-//eventon.com NONSGML v1.0//EN
CALSCALE:GREGORIAN
METHOD:PUBLISH
BEGIN:VEVENT
UID:69e8bb9eee5fc
DTSTAMP:20260422T121422Z
DTSTART:20251218T190000Z
DTEND:20251218T200000Z
LOCATION:
SUMMARY:Traumasensibilität und Selbstregulation im Konfliktfeld
DESCRIPTION:Du möchtest erleben\,  wie Containment\,  Traumasensibilität 
 und Spaceholding in der Praxis wirken? In unseren kostenfreien Online-Klass
 en geben wir dir einen direkten Einblick in zentrale Qualitäten unserer Au
 sbildung. Traumasensibilität und Selbstregulation im Konfliktfeld mit Sven
  Butz und Christian Werner Weihnachten berührt – und fordert. Zwischen E
 rwartungen\,  alten Mustern und familiären Spannungen[..]\nhttps://sahejyo
 g.com/events/weihnachtsspecial/
URL:https://sahejyog.com/events/weihnachtsspecial/
END:VEVENT
END:VCALENDAR